Workbook

Sheet MOTORISTA
A1: MOTORISTAS - Regime de Tributação: Lucro Real
A2: Pregão IFSul Câmpus Sapucaia do Sul nº 90001/2024 – PLANILHA DE CUSTOS E FORMAÇÃO DE PREÇOS DE REFERÊNCIA
A3: Nº do processo: | H3: 23164.000335.2024-36
A4: Licitação nº: | H4: 90001/2024
A5: Dia: | H5: 45491
A6: DISCRIMINAÇÃO DOS SERVIÇOS (DADOS REFERENTES À CONTRATAÇÃO)
A7: A | B7: Data de apresentação da proposta (dia/mês/ano) | H7: 45491
A8: B | B8: Município/UF | H8: SAPUCAIA DO SUL/RS
A9: C | B9: Ano do Acordo, Convenção ou Dissídio Coletivo | H9: SINDIRODOSUL-RS002738/2023
A10: D | B10: Número de meses de execução contratual | H10: 24
A11: IDENTIFICAÇÃO DO SERVIÇO
A13: 1. MÓDULOS Mão de obra Mão de obra vinculada à execução contratual
A15: Dados para composição dos custos referente à mão de obra
A16: 1 | B16: Tipo de Serviço (mesmo serviço com características distintas) | H16: Motorista
A17: 2 | B17: Classificação Brasileira de Ocupações (CBO) | H17: 7824-10
A18: 3 | B18: Salário Normativo da Categoria Profissional - para a jornada de 44 h/sem | H18: 3443.48
A19: 4 | B19: Categoria Profissional (vinculada à execução contratual) | H19: Motorista
A20: 5 | B20: Data-Base da Categoria (dia/mês/ano) | H20: 45078
A22: Módulo 1: Composição da Remuneração
A23: 1 | B23: Composição da Remuneração | H23: Percentual (R$) | J23: Valor (R$)
A24: A | B24: Salário-Base (valor para somente 1 (um) motorista - 44h/semanais) | J24: =H18 -> 3443.48
A25: B | B25: Adicional de Insalubridade | J25: =ROUND(I25*J24,2) -> 0
A26: Total | J26: =SUM(J24:J25) -> 3443.48
A28: Módulo 2 – Encargos e Benefícios Anuais, Mensais e Diários
A29: Submódulo 2.1 – 13º (décimo terceiro) Salário e Adicional de Férias
A30: 2.1 | B30: 13º (décimo terceiro) Salário e Adicional de Férias | J30: Valor (R$)
A31: A | B31: 13º (décimo terceiro) Salário Obrigatória a cotação de 8,33% sobre o valor do Módulo 1 – Composição da Remuneração, conforme Anexo XII da IN 5/17 | I31: 0.0833 | J31: =ROUND($J$26*I31,2) -> 286.84
A32: B | B32: Adicional de Férias Obrigatória a cotação de 3,025% sobre o valor do Módulo 1 – Composição da Remuneração, conforme Anexo XII da IN 5/17 (Férias + Adicional = 9,075% + 3,025% = 12,10%) | I32: 0.03025 | J32: =ROUND($J$26*I32,2) -> 104.17
A33: Total | J33: =SUM(J31+J32) -> 391.01
A34: C | B34: Incidência dos encargos do Submódulo 2.2 sobre o total do Submódulo 2.1 | J34: =ROUND(I47*J33,2) -> 143.89
A35: Total | J35: =J33+J34 -> 534.9
A37: Submódulo 2.2 - Encargos Previdenciários (GPS), Fundo de Garantia por Tempo de Serviço (FGTS) e outras contribuições
A38: 2.2 | B38: GPS, FGTS e outras contribuições | I38: Percentual (%) | J38: Valor (R$)
A39: A | B39: INSS | I39: 0.2 | J39: =ROUND($J$26*I39,2) -> 688.7
A40: B | B40: Salário Educação | I40: 0.025 | J40: =ROUND($J$26*I40,2) -> 86.09
A41: C | B41: RAT x FAP | E41: RAT = | F41: 0.03 | G41: FAP = | H41: 1 | I41: =ROUND((F41*H41),6) -> 0.03 | J41: =ROUND($J$26*I41,2) -> 103.3
A42: D | B42: SESC ou SESI | I42: 0.015 | J42: =ROUND($J$26*I42,2) -> 51.65
A43: E | B43: SENAC ou SENAI | I43: 0.01 | J43: =ROUND($J$26*I43,2) -> 34.43
A44: F | B44: SEBRAE | I44: 0.006 | J44: =ROUND($J$26*I44,2) -> 20.66
A45: G | B45: INCRA | I45: 0.002 | J45: =ROUND($J$26*I45,2) -> 6.89
...

Sheet H.EXTRAS
A1: MOTORISTAS - Regime de Tributação: Lucro Real
A2: Pregão IFSul Câmpus Sapucaia do Sul nº 90001/2024 – PLANILHA DE SERVIÇOS EXTRAORDINÁRIOS
A3: Nº do processo: | H3: =MOTORISTA!H3 -> 23164.000335.2024-36
A4: Licitação nº: | H4: =MOTORISTA!H4 -> 90001/2024
A5: Dia: | H5: =MOTORISTA!H5 -> 45491
A6: DISCRIMINAÇÃO DOS SERVIÇOS (DADOS REFERENTES À CONTRATAÇÃO)
A7: A | B7: Data de apresentação da proposta (dia/mês/ano)
A8: B | B8: Município/UF | K8: =MOTORISTA!H8 -> SAPUCAIA DO SUL/RS
A9: C | B9: Ano do Acordo, Convenção ou Dissídio Coletivo | H9: SINDIRODOSUL - RS002738/2023 | K9: =MOTORISTA!H9 -> SINDIRODOSUL-RS002738/2023
A10: D | B10: Número de meses de execução contratual | K10: =MOTORISTA!H10 -> 24
A11: IDENTIFICAÇÃO DO SERVIÇO
A13: 1. MÓDULOS Mão de obra Mão de obra vinculada à execução contratual
A15: Dados para composição dos custos referente à mão de obra
A16: 1 | B16: Tipo de Serviço (mesmo serviço com características distintas) | K16: Motorista
A17: 2 | B17: Classificação Brasileira de Ocupações (CBO) | K17: 7824-10
A18: 3 | B18: Salário Normativo da Categoria Profissional - para a jornada de 44 h/sem | K18: =MOTORISTA!H18 -> 3443.48
A19: 4 | B19: Categoria Profissional (vinculada à execução contratual) | K19: Motorista
A20: 5 | B20: Data-Base da Categoria (dia/mês/ano) | K20: 45078
A22: Dados para composição dos custos referente aos serviços extraordinários | M22: Valor (R$)
A23: 1 | B23: Valor hora normal trabalhada | M23: =K18/220 -> 15.652182
A24: 2 | B24: Valor Hora extra 50% | M24: =M23*1.5 -> 23.478273
A25: 3 | B25: Valor Hora extra 100% | M25: =M23*2 -> 31.304364
A26: 4 | B26: Valor hora Noturna trabalhada (considerando a hora noturna reduzida) | M26: =M23*1.1428571 -> 17.888207
A28: Módulo 1: Composição da Remuneração dos Serviços Extraordinários | J28: H.E 50% | K28: H.E 100% | L28: H.E.N 50% | M28: H.E.N 100%
A29: 1 | B29: Composição da Remuneração | H29: Percentual (R$) | J29: Valor (R$) | K29: Valor (R$) | L29: Valor (R$) | M29: Valor (R$)
A30: A | B30: Valor-Base da Hora Extra (valor para somente 1 (um) motorista - 44h/semanais) | J30: =M24 -> 23.478273 | K30: =M25 -> 31.304364 | L30: =M26 -> 17.888207 | M30: =M26 -> 17.888207
B31: Adicional noturno (20%) | L31: =L30*20% -> 3.5776414 | M31: =M30*0.2 -> 3.5776414
B32: Valor da hora extra noturna | L32: =((L30+L31)*0.5+(L30+L31)) -> 32.198773 | M32: =((M30+M31)*2) -> 42.931697
A33: B | B33: Reflexos DSR Hora Extra | J33: =((J30/22)*4) -> 4.2687769 | K33: =((K30/22)*4) -> 5.6917025 | L33: =((L32/22)*4) -> 5.8543223 | M33: =((M32/22)*4) -> 7.8057631
A34: Total | J34: =SUM(J30:J33) -> 27.74705 | K34: =SUM(K30:K33) -> 36.996066 | L34: =SUM(L30:L33) -> 59.518944 | M34: =SUM(M30:M33) -> 72.203309
A36: Módulo 2 – Encargos e Benefícios Anuais, Mensais e Diários
A37: Submódulo 2.1 – 13º (décimo terceiro) Salário e Adicional de Férias
A38: 2.1 | B38: 13º (décimo terceiro) Salário e Adicional de Férias | J38: Valor (R$) | K38: Valor (R$) | L38: Valor (R$) | M38: Valor (R$)
A39: A | B39: 13º (décimo terceiro) Salário Obrigatória a cotação de 8,33% sobre o valor do Módulo 1 – Composição da Remuneração, conforme Anexo XII da IN 5/17 | I39: 0.0833 | J39: =ROUND($J$34*I39,2) -> 2.31 | K39: =ROUND($K$34*I39,2) -> 3.08 | L39: =ROUND($L$34*I39,2) -> 4.96 | M39: =ROUND($M$34*I39,2) -> 6.01
A40: B | B40: Adicional de Férias Obrigatória a cotação de 3,025% sobre o valor do Módulo 1 – Composição da Remuneração, conforme Anexo XII da IN 5/17 (Férias + Adicional = 9,075% + 3,025% = 12,10%) | I40: 0.03025 | J40: =ROUND($J$34*I40,2) -> 0.84 | K40: =ROUND($K$34*I40,2) -> 1.12 | L40: =ROUND($L$34*I40,2) -> 1.8 | M40: =ROUND($M$34*I40,2) -> 2.18
A41: Total | J41: =SUM(J39+J40) -> 3.15 | K41: =SUM(K39+K40) -> 4.2 | L41: =SUM(L39+L40) -> 6.76 | M41: =SUM(M39+M40) -> 8.19
A42: C | B42: Incidência dos encargos do Submódulo 2.2 sobre o total do Submódulo 2.1 | J42: =ROUND(I55*J41,2) -> 1.16 | K42: =ROUND(I55*K41,2) -> 1.55 | L42: =ROUND(I55*L41,2) -> 2.49 | M42: =ROUND(I55*M41,2) -> 3.01
A43: Total | J43: =J41+J42 -> 4.31 | K43: =K41+K42 -> 5.75 | L43: =L41+L42 -> 9.25 | M43: =M41+M42 -> 11.2
A45: Submódulo 2.2 - Encargos Previdenciários (GPS), Fundo de Garantia por Tempo de Serviço (FGTS) e outras contribuições
A46: 2.2 | B46: GPS, FGTS e outras contribuições | I46: Percentual (%) | J46: Valor (R$) | K46: Valor (R$) | L46: Valor (R$) | M46: Valor (R$)
...

Sheet DIÁRIAS
A1: MOTORISTAS - Regime de Tributação: Lucro Real
A2: Pregão IFSul Câmpus Sapucaia do Sul nº 90001/2024 – PLANILHA DE DIÁRIAS
A3: Nº do processo: | H3: =MOTORISTA!H3 -> 23164.000335.2024-36
A4: Licitação nº: | H4: =MOTORISTA!H4 -> 90001/2024
A5: Dia: | H5: =MOTORISTA!H5 -> 45491
A6: DISCRIMINAÇÃO DOS SERVIÇOS (DADOS REFERENTES À CONTRATAÇÃO)
A7: A | B7: Data de apresentação da proposta (dia/mês/ano) | H7: =MOTORISTA!H7 -> 45491
A8: B | B8: Município/UF | H8: =MOTORISTA!H8 -> SAPUCAIA DO SUL/RS
A9: C | B9: Ano do Acordo, Convenção ou Dissídio Coletivo | H9: =MOTORISTA!H9 -> SINDIRODOSUL-RS002738/2023
A10: D | B10: Número de meses de execução contratual | H10: =MOTORISTA!H10 -> 24
A11: IDENTIFICAÇÃO DO SERVIÇO
A13: Dados para composição dos custos referente à mão de obra
A14: 1 | B14: Tipo de Serviço (mesmo serviço com características distintas) | H14: Motorista
A15: 2 | B15: Classificação Brasileira de Ocupações (CBO) | H15: 7824-10
A16: 3 | B16: Salário Normativo da Categoria Profissional - para a jornada de 44 h/sem | H16: =MOTORISTA!H18 -> 3443.48
A17: 4 | B17: Categoria Profissional (vinculada à execução contratual) | H17: Motorista
A18: 5 | B18: Data-Base da Categoria (dia/mês/ano) | H18: =MOTORISTA!H20 -> 45078
A20: Composição dos Valores de Diárias e Hospedagens
A21: 1 | B21: Composição da Diária | F21: Evento | G21: R$ CCT | H21: Quantidade Mensal | J21: Valor (R$)
A22: A | B22: Alimentação quando fora da sede (Cláusula 10 CCT RS002738/2023 ) | F22: Café | G22: 19.04 | H22: 8 | J22: =G22*H22 -> 152.32
F23: Almoço | G23: 28.23 | H23: 8 | J23: =G23*H23 -> 225.84
F24: Janta | G24: 28.23 | H24: 8 | J24: =G24*H24 -> 225.84
A25: B | B25: Hospedagem quando fora da sede (Cláusula 10 CCT RS002738/2023 ) | G25: 159.43 | H25: 4 | J25: =G25*H25 -> 637.72
B26: Valor total da diária sem hospedagem | G26: =SUM(G22:G24) -> 75.5 | H26: 4 | J26: =H26*G26 -> 302
B27: Valor total da diária com hospedagem | G27: =SUM(G22:G25) -> 234.93 | H27: 4 | J27: =H27*G27 -> 939.72
B28: Valor Estimativo Mensal do Contrato para Diárias | J28: =SUM(J22:J25) -> 1241.72
B29: Número de Meses do Contrato | I29: 24
A30: VALOR ESTIMATIVO GLOBAL DO CONTRATO PARA DIÁRIAS E HOSPEDAGENS | J30: =J28*I29 -> 29801.28

Sheet UNIFORMES
A1: MOTORISTA - Regime de Tributação: Lucro Real
A2: Pregão IFSul Câmpus Sapucaia do Sul nº 90001/2024 – PLANILHA DE EQUIPAMENTOS E UNIFORMES
A3: Nº do processo: | F3: =MOTORISTA!H3 -> 23164.000335.2024-36
A4: Licitação nº: | F4: =MOTORISTA!H4 -> 90001/2024
A5: Dia: | F5: =MOTORISTA!H5 -> 45491
A6: EQUIPAMENTOS | B6: Unidade | C6: Quantidade a disponibilizar | D6: Depreciação (em meses) | E6: Quantidade 24 MESES | F6: Valor Unitário | G6: Custo Anual
A7: Mensalidade de plano controle com no mínimo 15GB de dados e ligações ilimitadas para qualquer operadora do Brasil. | B7: mensalidade | C7: 1 | D7: 1 | E7: 24 | F7: 55.32 | G7: =E7*F7 -> 1327.68
A8: CUSTO 24 MESES DOS EQUIPAMENTOS PARA O CONTRATO | G8: =SUM(G7:G7) -> 1327.68
A9: CUSTO MENSAL DOS EQUIPAMENTOS PARA O CONTRATO | G9: =G8/24 -> 55.32
A11: UNIFORMES | B11: Unidade | C11: Quantidade 24 meses | D11: Valor Unitário | E11: Custo Anual
A12: Calça comprida tecido social/brim (leve), preta, numeração 30 ao 48, com ziper | B12: pç | C12: 8 | D12: 117.25 | E12: =C12*D12 -> 938
A13: Camisa social manga curta contendo o nome da Empresa impresso ou bordado. | B13: pç | C13: 8 | D13: 86.62 | E13: =C13*D13 -> 692.96
A14: Camisa social manga comprida contendo o nome da Empresa impresso ou bordado. | B14: pç | C14: 8 | D14: 100.05 | E14: =C14*D14 -> 800.4
A15: Jaqueta de nylon, impermeável, contendo nome da empresa impresso ou bordado, com forro interno. | B15: pç | C15: 2 | D15: 177.52 | E15: =C15*D15 -> 355.04
A16: Blusão grosso de lã de boa qualidade contendo nome da Empresa bordado ou impresso, gola “V”, ou redonda.bordado ou impresso, gola “V”, ou redonda. | B16: pç | C16: 4 | D16: 176.27 | E16: =C16*D16 -> 705.08
A17: Camiseta branca de algodão | B17: pç | C17: 8 | D17: 22.88 | E17: =C17*D17 -> 183.04
A18: Cinto para calça social, em couro sintético. | B18: pç | C18: 4 | D18: 72.66 | E18: =C18*D18 -> 290.64
A19: Par de meias sociais, cor preta. | B19: par | C19: 16 | D19: 14.06 | E19: =C19*D19 -> 224.96
A20: Par de Sapatos sociais, com solado de borracha, cor preta | B20: par | C20: 8 | D20: 113.78 | E20: =C20*D20 -> 910.24
A21: CUSTO 24 MESES DOS UNIFORMES PARA 1 MOTORISTA | E21: =SUM(E12:E20) -> 5100.36
A22: CUSTO MENSAL DOS UNIFORMES PARA 1 MOTORISTA | E22: =E21/24 -> 212.515
A25: QUADRO RESUMO | B25: CUSTO 24 MESES | D25: CUSTO MENSAL | F25: Custo Mensal por Funcionário
A26: EQUIPAMENTOS GERAIS | B26: =G8 -> 1327.68 | D26: =B26/24 -> 55.32 | F26: =D26/G32 -> 55.32
A28: UNIFORMES | C28: =E21 -> 5100.36 | D28: =C28/24 -> 212.515 | G28: =D28 -> 212.515
A30: TOTAIS | B30: =B26+C28 -> 6428.04 | D30: =D26+D28 -> 267.835 | G30: =SUM(F26:G28) -> 267.835
A32: Quantidade da mão de obra alocada na prestação dos serviços | G32: 1

Sheet RESUMO
A1: MOTORISTA - Regime de Tributação: Lucro Real
A2: Pregão IFSul Câmpus Sapucaia do Sul nº 90001/2024 – PLANILHA RESUMO
A3: Nº do processo: | F3: =MOTORISTA!H3 -> 23164.000335.2024-36
A4: Licitação nº: | F4: =MOTORISTA!H4 -> 90001/2024
A5: Dia: | F5: =MOTORISTA!H5 -> 45491
A6: DISCRIMINAÇÃO DOS SERVIÇOS (DADOS REFERENTES À CONTRATAÇÃO)
A7: A | B7: Data de apresentação da proposta (dia/mês/ano) | F7: =MOTORISTA!H7 -> 45491
A8: B | B8: Município/UF | F8: =MOTORISTA!H8 -> SAPUCAIA DO SUL/RS
A9: C | B9: Ano do Acordo, Convenção ou Dissídio Coletivo | F9: =MOTORISTA!H9 -> SINDIRODOSUL-RS002738/2023
A10: D | B10: Número de meses de execução contratual | F10: =MOTORISTA!H10 -> 24
A12: QUADRO DEMONSTRATIVO DO VALOR MENSAL DOS SERVIÇOS
B13: Tipo de serviço (A) | C13: Valor Proposto por Empregado (B) | D13: Qtde. de Empregados por Posto (C) | E13: Valor Proposto por Posto (D) = (B x C) | F13: Qtde. de Postos (E) | G13: Valor Total do Serviço (F) = (D x E)
A14: I | B14: Serviços de motoristas | C14: =MOTORISTA!J145 -> 8998.3213 | D14: 1 | E14: =C14*D14 -> 8998.3213 | F14: =MOTORISTA!G149 -> 1 | G14: =PRODUCT(E14:F14) -> 8998.3213
A15: II | B15: Serviços extraordinários | G15: =H.EXTRAS!M110 -> 3342.7526
A16: III | B16: Diárias e hospedagens | G16: =DIÁRIAS!J28 -> 1241.72
A17: Valor Mensal estimado dos Serviços | G17: =SUM(G14:G16) -> 13582.794
A19: QUADRO DEMONSTRATIVO DO VALOR GLOBAL DA PROPOSTA
A20: A | B20: Valor Global dos Serviços Continuados de Motoristas | G20: =G14*24 -> 215959.71
A21: B | B21: Valor Global dos Serviços Extraordinários (Horas Extras) | G21: =G15*24 -> 80226.061
A22: C | B22: Valor Global de Diárias e Hospedagens | G22: =G16*24 -> 29801.28
A23: VALOR GLOBAL ESTIMADO DA CONTRATAÇÃO (24 MESES) | G23: =SUM(G20:G22) -> 325987.05
