Workbook

Sheet ORÇAMENTO
A4: DADOS DA EMPRESA
A5: DADOS DA EMPRESA
A10: Planilha de Orçamento - GLOBAL
A12: Obra: 022001 - PROJETO DE ADEQUAÇÕES AO PPCI | F12: Endereço: Avenida Copacabana, 100
A13: Cliente: Instituto Federal Sul-Rio-Grandense | F13: Cidade: Sapucaia do Sul/RS | J13: BDI = | K13: 0.25 | L13: Julho de 2021
A14: Item/Descrição | B14: Qtd. | C14: Un | D14: Mão-de-Obra | F14: Material | H14: Custo Unitario Total | I14: Custo Direto | J14: BDI | L14: Sub-Total do Item | M14: Total do Item
D15: Custo Unitário | E15: Custo Parcial | F15: Custo Unitário | G15: Custo Parcial | J15: Valor | K15: %
A17: 2. SERVIÇOS PRELIMINARES/TÉCNICOS | M17: =SUM(L19:L22) -> 0
A18: 2. 7. PLACAS DE IDENTIFICAÇÃO DE EXERCÍCIO PROFISSIONAL EM OBRAS
A19: .1 PLACA DE OBRA-PINTADA/FIXADA ESTRUTURA DE MADEIRA | B19: 3 | C19: M2 | E19: =B19*D19 -> 0 | G19: =B19*F19 -> 0 | H19: =D19+F19 -> 0 | I19: =E19+G19 -> 0 | J19: =I19*K19 -> 0 | K19: 0.25 | L19: =I19+J19 -> 0
A20: 2. 8. DEMOLIÇÕES E ROMOÇÕES
A21: 2. 8.13. REMOÇÃO DE ESQUADRIAS DE MADEIRA
A22: .1 RETIRADA DE ESQUADRIAS | B22: 1.89 | C22: M2 | E22: =B22*D22 -> 0 | G22: =B22*F22 -> 0 | H22: =D22+F22 -> 0 | I22: =E22+G22 -> 0 | J22: =I22*K22 -> 0 | K22: 0.25 | L22: =I22+J22 -> 0
A23: 14. INSTALAÇÕES DE COMBATE A INCÊNDIO | M23: =SUM(L26:L50) -> 0
A24: 14. 3. SINALIZAÇÕES
A25: 14. 3. 6. PLACA "ALARME DE INCÊNDIO"
A26: .1 PLACAS ACRILICAS "ALARME DE INCÊNDIO" | B26: 16 | C26: UN | E26: =B26*D26 -> 0 | G26: =B26*F26 -> 0 | H26: =D26+F26 -> 0 | I26: =E26+G26 -> 0 | J26: =I26*K26 -> 0 | K26: 0.25 | L26: =I26+J26 -> 0
A27: 14. 3. 8. PLACA "ALARME SONORO E VISUAL"
A28: .1 PLACAS ACRILICAS "ALARME SONORO E VISUAL" | B28: 16 | C28: UN | E28: =B28*D28 -> 0 | G28: =B28*F28 -> 0 | H28: =D28+F28 -> 0 | I28: =E28+G28 -> 0 | J28: =I28*K28 -> 0 | K28: 0.25 | L28: =I28+J28 -> 0
A29: 14. 3.11. PLACA "CENTRAL DE DETECÇÃO E ALARME"
A30: .1 PLACAS ACRILICAS "CENTRAL DE DETECÇÃO E ALARME" | B30: 1 | C30: UN | E30: =B30*D30 -> 0 | G30: =B30*F30 -> 0 | H30: =D30+F30 -> 0 | I30: =E30+G30 -> 0 | J30: =I30*K30 -> 0 | K30: 0.25 | L30: =I30+J30 -> 0
A31: 14. 3.17. PLACA "PORTA CORTA-FOGO'
A32: .1 PLACAS "PORTA CORTA-FOGO" | B32: 1 | C32: UN | E32: =B32*D32 -> 0 | G32: =B32*F32 -> 0 | H32: =D32+F32 -> 0 | I32: =E32+G32 -> 0 | J32: =I32*K32 -> 0 | K32: 0.25 | L32: =I32+J32 -> 0
A33: 14. 5. PORTA CORTA FOGO | E33: =B33*D33 -> 0 | G33: =B33*F33 -> 0 | H33: =D33+F33 -> 0 | I33: =E33+G33 -> 0 | J33: =I33*K33 -> 0 | L33: =I33+J33 -> 0
A34: .1 PORTA CORTA-FOGO COM MOLA PARA FECHAMENTO | B34: 1 | C34: CJ | E34: =B34*D34 -> 0 | G34: =B34*F34 -> 0 | H34: =D34+F34 -> 0 | I34: =E34+G34 -> 0 | J34: =I34*K34 -> 0 | K34: 0.25 | L34: =I34+J34 -> 0
A35: 14. 6. ALARME DE INCÊNDIO
A36: 14. 6. 1. ACIONADOR MANUAL
A37: .1 ACIONADOR MANUAL ENDEREÇÁVEL C/MARTELO S/SIRENE (BOTOEIRA) | B37: 16 | C37: UN | E37: =B37*D37 -> 0 | G37: =B37*F37 -> 0 | H37: =D37+F37 -> 0 | I37: =E37+G37 -> 0 | J37: =I37*K37 -> 0 | K37: 0.25 | L37: =I37+J37 -> 0
A38: 14. 6. 2. DISPOSITIVOS SONOROS
A39: .1 AVISADOR SONORO E VISUAL CONVENCIONAL | B39: 16 | C39: UN | E39: =B39*D39 -> 0 | G39: =B39*F39 -> 0 | H39: =D39+F39 -> 0 | I39: =E39+G39 -> 0 | J39: =I39*K39 -> 0 | K39: 0.25 | L39: =I39+J39 -> 0
A40: 14. 6. 4. CENTRAL DE ALARME
A41: .1 CENTRAL DE ALARME TIPO ENDEREÇÁVEL C/BATERIA | B41: 1 | C41: UN | E41: =B41*D41 -> 0 | G41: =B41*F41 -> 0 | H41: =D41+F41 -> 0 | I41: =E41+G41 -> 0 | J41: =I41*K41 -> 0 | K41: 0.25 | L41: =I41+J41 -> 0
A42: .2 ELETRODUTO PVC ANTICHAMA VERMELHO 3/4' C/LUVA | B42: 600 | C42: M | E42: =B42*D42 -> 0 | G42: =B42*F42 -> 0 | H42: =D42+F42 -> 0 | I42: =E42+G42 -> 0 | J42: =I42*K42 -> 0 | K42: 0.25 | L42: =I42+J42 -> 0
A43: .3 CURVA ELETRODUTO PVC ANTICHAMA VERMELHO 3/4' | B43: 25 | C43: UN | E43: =B43*D43 -> 0 | G43: =B43*F43 -> 0 | H43: =D43+F43 -> 0 | I43: =E43+G43 -> 0 | J43: =I43*K43 -> 0 | K43: 0.25 | L43: =I43+J43 -> 0
A44: .4 CABO BLINDADO 2 VIAS 0,75MM | B44: 700 | C44: M | E44: =B44*D44 -> 0 | G44: =B44*F44 -> 0 | H44: =D44+F44 -> 0 | I44: =E44+G44 -> 0 | J44: =I44*K44 -> 0 | K44: 0.25 | L44: =I44+J44 -> 0
A45: .5 ABRACADEIRA PVC P/ELETRODUTO VERMELHA | B45: 460 | C45: UN | E45: =B45*D45 -> 0 | G45: =B45*F45 -> 0 | H45: =D45+F45 -> 0 | I45: =E45+G45 -> 0 | J45: =I45*K45 -> 0 | K45: 0.25 | L45: =I45+J45 -> 0
A46: .6 CAIXA CONDULETE C/TAMPA TIPO T VERMELHA | B46: 16 | C46: UN | E46: =B46*D46 -> 0 | G46: =B46*F46 -> 0 | H46: =D46+F46 -> 0 | I46: =E46+G46 -> 0 | J46: =I46*K46 -> 0 | K46: 0.25 | L46: =I46+J46 -> 0
A47: 14. 6. 6. DETECTORES DE FUMAÇA
A48: .1 DETECTOR DE FUMAÇA ENDEREÇÁVEL | B48: 12 | C48: UN | E48: =B48*D48 -> 0 | G48: =B48*F48 -> 0 | H48: =D48+F48 -> 0 | I48: =E48+G48 -> 0 | J48: =I48*K48 -> 0 | K48: 0.25 | L48: =I48+J48 -> 0
A49: 14. 9. BARRAS ANTIPÂNICO | E49: =B49*D49 -> 0 | G49: =B49*F49 -> 0 | H49: =D49+F49 -> 0 | I49: =E49+G49 -> 0 | J49: =I49*K49 -> 0 | L49: =I49+J49 -> 0
...

Sheet CRONOGRAMA
A2: INCLUIR LOGOTIPO DA EMPRESA
A7: DADOS DA EMPRESA
A8: DADOS DA EMPRESA
A9: DADOS DA EMPRESA
A11: CRONOGRAMA FÍSICO-FINANCEIRO
A12: Obra: 022001 - PROJETO ALARME E DETECÇÃO DE INCÊNDIO | C12: Endereço: Av. Copacabana, 100
A13: Cliente: Instituto Federal Sul-Rio-Grandense | C13: Cidade: Sapucaia do Sul - RS
A14: ITEM | B14: 30 dias | D14: TOTAL
B15: VALOR | C15: % | D15: VALOR | E15: %
A16: 1. PROJETOS
A17: 2. SERVIÇOS PRELIMINARES / TÉCNICOS | B17: =C17*D17 -> 0 | C17: 1 | D17: =ORÇAMENTO!$M$17 -> 0 | E17: =C17 -> 1
A18: 3. MOVIMENTO DE TERRA
A19: 4. INFRA-ESTRUTURA / FUNDAÇÕES SIMPLES
A20: 5. FUNDAÇÕES ESPECIAIS
A21: 6. SUPERESTRUTURA
A22: 7. ALVENARIA / VEDAÇÃO / DIVISÓRIA
A23: 8. ESQUADRIAS
A24: 9. COBERTURA
A25: 10. INSTALAÇÕES ELÉTRICAS
A26: 11. INSTALAÇÕES REDE LÓGICA
A27: 12. INSTALAÇÕES HIDROSSANITÁRIAS
A28: 13. IMPERMEABILIZAÇÃO, ISOLAÇÃO TÉRMICA E ACÚSTICA
A29: 14. INSTALAÇÕES DE COMBATE A INCÊNDIO | B29: =C29*D29 -> 0 | C29: 1 | D29: =ORÇAMENTO!$M$23 -> 0 | E29: =C29 -> 1
A30: 15. REVESTIMENTOS
A31: 16. VIDROS
A32: 17. PINTURA
A33: 18. SERVIÇOS COMPLEMENTARES
A34: 19. PAISAGISMO / URBANIZAÇÃO
A35: 20. EQUIPAMENTOS
A36: 21. GERENCIAMENTO DE OBRAS / FISCALIZAÇÃO | B36: =C36*D36 -> 0 | C36: 1 | D36: =ORÇAMENTO!$M$51 -> 0
A37: 23. AR CONDICIONADO
A38: 24. PISO
A39: Total da Etapa | B39: =SUM(B16:B38) -> 0 | C39: =B39/$D$39 -> #DIV/0! | D39: =ORÇAMENTO!$M$54 -> 0 | E39: =C39 -> #DIV/0!
A40: Total Acumulado | B40: =B39 -> 0 | C40: =C39 -> #DIV/0! | D40: =SUM(D16:D38) -> 0
B42: =ORÇAMENTO!J56 -> Local e Data
B46: Nome do profissional Responsável
B47: Especificação do Cargo/Função
B48: N° do CREA ou CAU
