Workbook

Sheet Ficha avaliação
A1: CPPD | B1: FICHA DE AVALIAÇÃO | E1: Interst. De | H1: a
A2: Nome: | G2: Cla. / Nív.=
A3: Lotação: | B3: Dept. de Ensino/Sapucaia | E3: Titulação:
A4: Regime de trabalho (coloque x): | E4: 40 horas | G4: 20 horas
A5: Itens | B5: Denominação | F5: Pont. | G5: 1º sem. | H5: 2ºsem. | I5: 3ºsem. | J5: 4ºsem.
A6: I | B6: Desempenho didático pedagógico | F6: 60 | G6: =IF(IF($D$4="x",(G8+G7)*2.5,(G8+G7)*5)>60,60,IF($D$4="x",(G8+G7)*2.5,(G8+G7)*5)) -> 10 | H6: =IF(IF($D$4="x",(H8+H7)*2.5,(H8+H7)*5)>60,60,IF($D$4="x",(H8+H7)*2.5,(H8+H7)*5)) -> 10 | I6: =IF(IF($D$4="x",(I8+I7)*2.5,(I8+I7)*5)>60,60,IF($D$4="x",(I8+I7)*2.5,(I8+I7)*5)) -> 10 | J6: =IF(IF($D$4="x",(J8+J7)*2.5,(J8+J7)*5)>60,60,IF($D$4="x",(J8+J7)*2.5,(J8+J7)*5)) -> 10
B7: Número de aulas semanais
B8: Horas de reunião pedagógica regular (até 2h) | G8: 2 | H8: ='I - Desempenho Didático'!H6 -> 2 | I8: ='I - Desempenho Didático'!I6 -> 2 | J8: ='I - Desempenho Didático'!J6 -> 2
A9: I I | B9: Formação, aperfeiçoamento e atualização | F9: 60 | G9: =IF(SUM(G10:G12)>60,60,SUM(G10:G12)) -> 0 | H9: =IF(SUM(H10:H12)>60,60,SUM(H10:H12)) -> 0 | I9: =IF(SUM(I10:I12)>60,60,SUM(I10:I12)) -> 0 | J9: =IF(SUM(J10:J12)>60,60,SUM(J10:J12)) -> 0
B10: atividades diversas | G10: ='II - Formação, Aperfeiçoamento'!I22 -> 0 | H10: ='II - Formação, Aperfeiçoamento'!K22 -> 0 | I10: ='II - Formação, Aperfeiçoamento'!M22 -> 0 | J10: ='II - Formação, Aperfeiçoamento'!O22 -> 0
A13: I I I | B13: Produção intelectual | F13: 60 | G13: =IF(SUM(G14:G16)>60,60,SUM(G14:G16)) -> 0 | H13: =IF(SUM(H14:H16)>60,60,SUM(H14:H16)) -> 0 | I13: =IF(SUM(I14:I16)>60,60,SUM(I14:I16)) -> 0 | J13: =IF(SUM(J14:J16)>60,60,SUM(J14:J16)) -> 0
B14: atividades diversas
A17: I V | B17: Prestação de serviços e outras atividades | F17: 60 | G17: =IF(SUM(G18:G20)>60,60,SUM(G18:G20)) -> 0 | H17: =IF(SUM(H18:H20)>60,60,SUM(H18:H20)) -> 0 | I17: =IF(SUM(I18:I20)>60,60,SUM(I18:I20)) -> 0 | J17: =IF(SUM(J18:J20)>60,60,SUM(J18:J20)) -> 0
B18: atividades diversas
A21: V | B21: Administração | F21: 60 | G21: =IF(SUM(G22:G24)>60,60,SUM(G22:G24)) -> 0 | H21: =IF(SUM(H22:H24)>60,60,SUM(H22:H24)) -> 0 | I21: =IF(SUM(I22:I24)>60,60,SUM(I22:I24)) -> 0 | J21: =IF(SUM(J22:J24)>60,60,SUM(J22:J24)) -> 0
B22: atividades diversas | G22: ='V - Administração'!J14 -> 0 | H22: ='V - Administração'!L14 -> 0 | I22: ='V - Administração'!N14 -> 0 | J22: ='V - Administração'!P14 -> 0
A25: VI | B25: Outras atividades | F25: 30 | G25: =IF(SUM(G26:G28)>30,30,SUM(G26:G28)) -> 0 | H25: =IF(SUM(H26:H28)>30,30,SUM(H26:H28)) -> 0 | I25: =IF(SUM(I26:I28)>30,30,SUM(I26:I28)) -> 0 | J25: =IF(SUM(J26:J28)>30,30,SUM(J26:J28)) -> 0
B26: atividades diversas | G26: ='VI - Outras Atividades'!J12 -> 0 | H26: ='VI - Outras Atividades'!L12 -> 0 | I26: ='VI - Outras Atividades'!N12 -> 0 | J26: ='VI - Outras Atividades'!P12 -> 0
A29: VII | B29: Portarias | F29: 30 | G29: =IF(SUM(G30:G32)>30,30,SUM(G30:G32)) -> 0 | H29: =IF(SUM(H30:H32)>30,30,SUM(H30:H32)) -> 0 | I29: =IF(SUM(I30:I32)>30,30,SUM(I30:I32)) -> 0 | J29: =IF(SUM(J30:J32)>30,30,SUM(J30:J32)) -> 0
B30: atividades diversas | G30: ='VII - Portarias'!H25 -> 0 | H30: ='VII - Portarias'!J25 -> 0 | I30: ='VII - Portarias'!L25 -> 0 | J30: ='VII - Portarias'!N25 -> 0
B33: Sub-total | G33: =G29+G25+G21+G17+G13+G9+G6 -> 10 | H33: =H29+H25+H21+H17+H13+H9+H6 -> 10 | I33: =I29+I25+I21+I17+I13+I9+I6 -> 10 | J33: =J29+J25+J21+J17+J13+J9+J6 -> 10
A34: VIII | B34: Descontos
B35: Faltas não justificadas
B36: Impontualidades
E37: TOTAL | G37: =G33-G36-G35 -> 10 | H37: =H33-H36-H35 -> 10 | I37: =I33-I36-I35 -> 10 | J37: =J33-J36-J35 -> 10
B38: MÉDIA DOS SEMESTRES | G38: =ROUND(IF(J33=0,AVERAGE(G37:I37),AVERAGE(G37:J37)),2) -> 10

Sheet I - Desempenho Didático
A1: I - Desempenho Didático Pedagógico
A3: aulas ministradas - horas aula semanais | G3: 1º sem | H3: 2º sem | I3: 3º sem | J3: 4º sem
B4: 40h ou DE | F4: 2
B5: 20h | F5: 4 | H5: 0 | I5: 0 | J5: 0
B6: (reunião) | F6: 2h | G6: 2 | H6: 2 | I6: 2 | J6: 2
B7: (avaliação discente) | F7: 10

Sheet II - Formação, Aperfeiçoamento
A1: II - Formação, Aperfeiçoamento e Atualização
H2: ='I - Desempenho Didático'!G3 -> 1º sem | J2: ='I - Desempenho Didático'!H3 -> 2º sem | L2: ='I - Desempenho Didático'!I3 -> 3º sem | N2: ='I - Desempenho Didático'!J3 -> 4º sem
H3: qtd | I3: pontos | J3: qtd | K3: pontos | L3: qtd | M3: pontos | N3: qtd | O3: pontos
A4: a) | B4: participação em projeto final de avaliação | F4: 1 | G4: até 3 | I4: =IF(H4>3,3,H4*$F4) -> 0 | K4: =IF(J4>3,3,J4*$F4) -> 0 | M4: =IF(L4>3,3,L4*$F4) -> 0 | O4: =IF(N4>3,3,N4*$F4) -> 0
A5: b) | B5: atividade de curta duração equivalente a aperfeiçoamento | F5: 2 | G5: até 3 | I5: =IF(H5>3,6,H5*$F5) -> 0 | K5: =IF(J5>3,6,J5*$F5) -> 0 | L5: 0 | M5: =IF(L5>3,6,L5*$F5) -> 0 | O5: =IF(N5>3,6,N5*$F5) -> 0
A6: c) | B6: microestágios e visitas técnicas
C7: na cidade | F7: 2 | I7: =H7*$F7 -> 0 | K7: =J7*$F7 -> 0 | M7: =L7*$F7 -> 0 | O7: =N7*$F7 -> 0
C8: fora da cidade/dia | F8: 3 | I8: =H8*$F8 -> 0 | K8: =J8*$F8 -> 0 | M8: =L8*$F8 -> 0 | O8: =N8*$F8 -> 0
A9: d) | B9: cursos de 40h/ativ.
C10: estágio (1 a 3 meses) | F10: 6 | I10: =H10*$F10 -> 0 | K10: =J10*$F10 -> 0 | M10: =L10*$F10 -> 0 | O10: =N10*$F10 -> 0
C11: estágio (4 a 6 meses) | F11: 8 | I11: =H11*$F11 -> 0 | K11: =J11*$F11 -> 0 | M11: =L11*$F11 -> 0 | O11: =N11*$F11 -> 0
A12: e) | B12: cursos de pós-graduação aperf, espec., mest. ou dout.
C13: 180 horas (aperf.) | F13: 20 | I13: =IF(H13<>"",$F13,0) -> 0 | K13: =IF(J13<>"",$F13,0) -> 0 | M13: =IF(L13<>"",$F13,0) -> 0 | O13: =IF(N13<>"",$F13,0) -> 0
C14: 360 horas (espec.) | F14: 25 | I14: =IF(H14<>"",$F14,0) -> 0 | K14: =IF(J14<>"",$F14,0) -> 0 | M14: =IF(L14<>"",$F14,0) -> 0 | O14: =IF(N14<>"",$F14,0) -> 0
C15: em curso | F15: 50 | I15: =IF(H15<>"",$F15,0) -> 0 | K15: =IF(J15<>"",$F15,0) -> 0 | M15: =IF(L15<>"",$F15,0) -> 0 | O15: =IF(N15<>"",$F15,0) -> 0
A16: f) | B16: participação - ouvinte em palestras, simpósios ou similares
C17: na área, até 3 | F17: 3 | I17: =IF(H17>3,6,H17*$F17) -> 0 | K17: =IF(J17>3,6,J17*$F17) -> 0 | M17: =IF(L17>3,6,L17*$F17) -> 0 | O17: =IF(N17>3,6,N17*$F17) -> 0
C18: fora da área, até 3 | F18: 1 | I18: =IF(H18>3,3,H18*$F18) -> 0 | K18: =IF(J18>3,3,J18*$F18) -> 0 | M18: =IF(L18>3,3,L18*$F18) -> 0 | O18: =IF(N18>3,3,N18*$F18) -> 0
A19: g) | B19: participação em grupos de estudo - formação continuada
C20: menos de 40h | F20: 2 | I20: =H20*$F20 -> 0 | K20: =J20*$F20 -> 0 | M20: =L20*$F20 -> 0 | O20: =N20*$F20 -> 0
C21: a partir de 40h | F21: 3 | I21: =H21*$F21 -> 0 | K21: =J21*$F21 -> 0 | M21: =L21*$F21 -> 0 | O21: =N21*$F21 -> 0
I22: =SUM(I4:I21) -> 0 | K22: =SUM(K4:K21) -> 0 | M22: =SUM(M4:M21) -> 0 | O22: =SUM(O4:O21) -> 0

Sheet III - Produção Intelectual
A1: III - Produção Intelectual | G1: até 40 pontos
I2: ='I - Desempenho Didático'!G3 -> 1º sem | K2: ='I - Desempenho Didático'!H3 -> 2º sem | M2: ='I - Desempenho Didático'!I3 -> 3º sem | O2: ='I - Desempenho Didático'!J3 -> 4º sem
I3: qtd | J3: pontos | K3: qtd | L3: pontos | M3: qtd | N3: pontos | O3: qtd | P3: pontos
A4: a) | B4: participação em projetos de pesquisa
B5: com agência fomentadora
C6: coordenador | E6: 20 | J6: =I6*E6 -> 0 | L6: =K6*E6 -> 0 | N6: =M6*E6 -> 0 | P6: =O6*E6 -> 0
C7: auxiliar | E7: 15 | J7: =I7*E7 -> 0 | L7: =K7*E7 -> 0 | N7: =M7*E7 -> 0 | P7: =O7*E7 -> 0
B9: sem agêcia fomentadora
C10: coordenador | E10: 8 | J10: =I10*E10 -> 0 | L10: =K10*E10 -> 0 | N10: =M10*E10 -> 0 | P10: =O10*E10 -> 0
C11: auxiliar | E11: 5 | J11: =I11*E11 -> 0 | L11: =K11*E11 -> 0 | N11: =M11*E11 -> 0 | P11: =O11*E11 -> 0
A12: b) | B12: palestras, trabalhos em congressos e similares (minicursos)
C13: na área/ ativ. | E13: 10 | J13: =I13*E13 -> 0 | L13: =K13*E13 -> 0 | N13: =M13*E13 -> 0 | P13: =O13*E13 -> 0
C14: fora da área/ ativ. | E14: 1 | J14: =I14*E14 -> 0 | L14: =K14*E14 -> 0 | N14: =M14*E14 -> 0 | P14: =O14*E14 -> 0
A15: c) | B15: poster ou painel
C16: na área/ ativ. | E16: 8 | J16: =I16*E16 -> 0 | L16: =K16*E16 -> 0 | N16: =M16*E16 -> 0 | P16: =O16*E16 -> 0
C17: fora da área/ ativ. | E17: 1 | J17: =I17*E17 -> 0 | L17: =K17*E17 -> 0 | N17: =M17*E17 -> 0 | P17: =O17*E17 -> 0
A18: d) | B18: Cursos de 40 horas p/ativ.
C19: ministrante | E19: 12 | J19: =I19*E19 -> 0 | L19: =K19*E19 -> 0 | N19: =M19*E19 -> 0 | P19: =O19*E19 -> 0
C20: coordenador | E20: 5 | J20: =I20*E20 -> 0 | L20: =K20*E20 -> 0 | N20: =M20*E20 -> 0 | P20: =O20*E20 -> 0
C21: monitor | E21: 2 | J21: =I21*E21 -> 0 | L21: =K21*E21 -> 0 | N21: =M21*E21 -> 0 | P21: =O21*E21 -> 0
A22: e) | B22: elaboração de trabalhos técnicos (consultoria ou produto), ou de relatórios técnicos, por determinação da área e/ou para atender convênios de ensino, pesquisa e/ou extensão (por ativ.)
C23: coordenador | E23: 15 | J23: =I23*E23 -> 0 | L23: =K23*E23 -> 0 | N23: =M23*E23 -> 0 | P23: =O23*E23 -> 0
C24: auxiliar | E24: 10 | J24: =I24*E24 -> 0 | L24: =K24*E24 -> 0 | N24: =M24*E24 -> 0 | P24: =O24*E24 -> 0
A25: f) | B25: tradução de obras literárias, técnicas ou cientificas, editadas, desde que no âmbito de sua atuação ou na área de educação (completas)
C26: capítulo de livro | E26: 10 | J26: =I26*E26 -> 0 | L26: =K26*E26 -> 0 | N26: =M26*E26 -> 0 | P26: =O26*E26 -> 0
C27: documento | E27: 5 | J27: =I27*E27 -> 0 | L27: =K27*E27 -> 0 | N27: =M27*E27 -> 0 | P27: =O27*E27 -> 0
A28: g) | B28: participação em evento artístico, cultural ou científico, relativo à atividade docente, com exposição ou divulgação
C29: autor | E29: 5 | J29: =I29*E29 -> 0 | L29: =K29*E29 -> 0 | N29: =M29*E29 -> 0 | P29: =O29*E29 -> 0
C30: coordenador | E30: 2 | J30: =I30*E30 -> 0 | L30: =K30*E30 -> 0 | N30: =M30*E30 -> 0 | P30: =O30*E30 -> 0
A31: h) | B31: publicação de artigo cientifico
C32: resumo de anais | E32: 5 | J32: =I32*E32 -> 0 | L32: =K32*E32 -> 0 | N32: =M32*E32 -> 0 | P32: =O32*E32 -> 0
C33: artigos completos
D34: ISSN | E34: 15 | J34: =I34*E34 -> 0 | L34: =K34*E34 -> 0 | N34: =M34*E34 -> 0 | P34: =O34*E34 -> 0
D35: Intern. | E35: 20 | J35: =I35*E35 -> 0 | L35: =K35*E35 -> 0 | N35: =M35*E35 -> 0 | P35: =O35*E35 -> 0
A36: i) | B36: pubicação de artigos em jornais na área de atuação ou educação
C37: por atividade | E37: 2 | J37: =I37*E37 -> 0 | L37: =K37*E37 -> 0 | N37: =M37*E37 -> 0 | P37: =O37*E37 -> 0
A38: j) | B38: participação de projetos inovadores na área de ensino por projeto
C39: coordenador | E39: 5 | J39: =I39*E39 -> 0 | L39: =K39*E39 -> 0 | N39: =M39*E39 -> 0 | P39: =O39*E39 -> 0
C40: auxiliar | E40: 3 | J40: =I40*E40 -> 0 | L40: =K40*E40 -> 0 | N40: =M40*E40 -> 0 | P40: =O40*E40 -> 0
A41: k) | B41: publicações técnicas, didáticas, cientificas e literárias em sua área de atuação ou educação
C42: cap. Livro (autor/co) | E42: 20 | J42: =I42*E42 -> 0 | L42: =K42*E42 -> 0 | N42: =M42*E42 -> 0 | P42: =O42*E42 -> 0
C43: organiz. | E43: 15 | J43: =I43*E43 -> 0 | L43: =K43*E43 -> 0 | N43: =M43*E43 -> 0 | P43: =O43*E43 -> 0
C44: livro (autor/co) | E44: 40 | J44: =I44*E44 -> 0 | L44: =K44*E44 -> 0 | N44: =M44*E44 -> 0 | P44: =O44*E44 -> 0
C45: apostila avaliada pela coordenadoria
D46: avaliada em 10 | E46: 5 | J46: =I46*E46 -> 0 | L46: =K46*E46 -> 0 | N46: =M46*E46 -> 0 | P46: =O46*E46 -> 0
D47: avaliada em 8 | E47: 3 | J47: =I47*E47 -> 0 | L47: =K47*E47 -> 0 | N47: =M47*E47 -> 0 | P47: =O47*E47 -> 0
D48: avaliada em 6 | E48: 1 | J48: =I48*E48 -> 0 | L48: =K48*E48 -> 0 | N48: =M48*E48 -> 0 | P48: =O48*E48 -> 0
A49: l) | B49: revisão de artigos técnicos
C50: até 3 | E50: 1 | J50: =IF(I50="","",IF(I50<3,I50*E50,3)) | L50: =IF(K50="","",IF(K50<3,K50*G50,3)) | N50: =IF(M50="","",IF(M50<3,M50*I50,3)) | P50: =IF(O50="","",IF(O50<3,O50*K50,3))
J51: =SUM(J4:J50) -> 0 | L51: =SUM(L4:L50) -> 0 | N51: =SUM(N4:N50) -> 0 | P51: =SUM(P4:P50) -> 0

Sheet IV - Extensão e Prestação
A1: IV - Extensão e Prestação de Serviços | H1: até 40 pontos
I2: ='III - Produção Intelectual'!I2:J2 -> 1º sem | K2: ='III - Produção Intelectual'!K2:L2 -> 2º sem | M2: ='III - Produção Intelectual'!M2:N2 -> 3º sem | O2: ='III - Produção Intelectual'!O2:P2 -> 4º sem
I3: qtd. | J3: pontos | K3: qtd. | L3: pontos | M3: qtd. | N3: pontos | O3: qtd. | P3: pontos
A4: a) | B4: participação em projetos de extensão de carater centífico, artístico, cultural, esportivo ou de prestação de serviços, articulado ou não com as de ensino e/ou pesquisa
C5: coordenador | E5: 10 | J5: =I5*$E5 -> 0 | L5: =K5*$E5 -> 0 | N5: =M5*$E5 -> 0 | P5: =O5*$E5 -> 0
C6: auxliar | E6: 8 | J6: =I6*$E6 -> 0 | L6: =K6*$E6 -> 0 | N6: =M6*$E6 -> 0 | P6: =O6*$E6 -> 0
A7: b) | B7: assessoria e/ou consultoria na área de atuação ou na de educação como representante do IF-SUL
C8: atividade | E8: 10 | J8: =I8*$E8 -> 0 | L8: =K8*$E8 -> 0 | N8: =M8*$E8 -> 0 | P8: =O8*$E8 -> 0
A9: c) | B9: participação em comissão de coordenação/organização de congressos ou similares
C10: internacional (coord.) | E10: 15 | J10: =I10*$E10 -> 0 | L10: =K10*$E10 -> 0 | N10: =M10*$E10 -> 0 | P10: =O10*$E10 -> 0
C11: internacional (aux.) | E11: 12 | J11: =I11*$E11 -> 0 | L11: =K11*$E11 -> 0 | N11: =M11*$E11 -> 0 | P11: =O11*$E11 -> 0
C12: nacional (coord.) | E12: 12 | J12: =I12*$E12 -> 0 | L12: =K12*$E12 -> 0 | N12: =M12*$E12 -> 0 | P12: =O12*$E12 -> 0
C13: nacional (aux.) | E13: 8 | J13: =I13*$E13 -> 0 | L13: =K13*$E13 -> 0 | N13: =M13*$E13 -> 0 | P13: =O13*$E13 -> 0
C14: regional (coord.) | E14: 8 | J14: =I14*$E14 -> 0 | L14: =K14*$E14 -> 0 | N14: =M14*$E14 -> 0 | P14: =O14*$E14 -> 0
C15: regional (aux.) | E15: 5 | J15: =I15*$E15 -> 0 | L15: =K15*$E15 -> 0 | N15: =M15*$E15 -> 0 | P15: =O15*$E15 -> 0
C16: cidade (coord.) | E16: 6 | J16: =I16*$E16 -> 0 | L16: =K16*$E16 -> 0 | N16: =M16*$E16 -> 0 | P16: =O16*$E16 -> 0
C17: cidade (aux.) | E17: 5 | J17: =I17*$E17 -> 0 | L17: =K17*$E17 -> 0 | N17: =M17*$E17 -> 0 | P17: =O17*$E17 -> 0
A18: d) | B18: cursos ou atividade de extensão promovidos pelo IF-SUL
C19: coordenador | E19: 8 | J19: =I19*$E19 -> 0 | L19: =K19*$E19 -> 0 | N19: =M19*$E19 -> 0 | P19: =O19*$E19 -> 0
C20: auxiliar | E20: 6 | J20: =I20*$E20 -> 0 | L20: =K20*$E20 -> 0 | N20: =M20*$E20 -> 0 | P20: =O20*$E20 -> 0
A21: e) | B21: organização, orientação ou desenvolvimento de órgãos, associações e centros de ensino ou de pesquisa, de caráter científico
C22: coordenador | E22: 10 | J22: =I22*$E22 -> 0 | L22: =K22*$E22 -> 0 | N22: =M22*$E22 -> 0 | P22: =O22*$E22 -> 0
C23: auxliar | E23: 8 | J23: =I23*$E23 -> 0 | L23: =K23*$E23 -> 0 | N23: =M23*$E23 -> 0 | P23: =O23*$E23 -> 0
A24: f) | B24: participação em bancas de exames de (até 4)
C25: defesa de TCC | E25: 5 | J25: =IF(I25>4,4*$E25,I25*$E25) -> 0 | L25: =IF(K25>4,4*$E25,K25*$E25) -> 0 | N25: =IF(M25>4,4*$E25,M25*$E25) -> 0 | P25: =IF(O25>4,4*$E25,O25*$E25) -> 0
C26: qualificação strictu | E26: 10 | J26: =IF(I26>4,4*$E26,I26*$E26) -> 0 | L26: =IF(K26>4,4*$E26,K26*$E26) -> 0 | N26: =IF(M26>4,4*$E26,M26*$E26) -> 0 | P26: =IF(O26>4,4*$E26,O26*$E26) -> 0
C27: defesa strictu | E27: 15 | J27: =IF(I27>4,4*$E27,I27*$E27) -> 0 | L27: =IF(K27>4,4*$E27,K27*$E27) -> 0 | N27: =IF(M27>4,4*$E27,M27*$E27) -> 0 | P27: =IF(O27>4,4*$E27,O27*$E27) -> 0
A28: g) | B28: orientação de trabalho de pesquisa
C29: TCC (até 3) | E29: 8 | J29: =IF(I29>3,3*$E29,I29*$E29) -> 0 | L29: =IF(K29>3,3*$E29,K29*$E29) -> 0 | N29: =IF(M29>3,3*$E29,M29*$E29) -> 0 | P29: =IF(O29>3,3*$E29,O29*$E29) -> 0
C30: strictu sensu | E30: 15 | F30: até 40 pontos | J30: =IF(I30>3,40,I30*$E30) -> 0 | L30: =IF(K30>3,40,K30*$E30) -> 0 | N30: =IF(M30>3,40,M30*$E30) -> 0 | P30: =IF(O30>3,40,O30*$E30) -> 0
A31: h) | B31: participação em comissão de semana de curso
C32: coordenação | E32: 3 | J32: =I32*$E32 -> 0 | L32: =K32*$E32 -> 0 | N32: =M32*$E32 -> 0 | P32: =O32*$E32 -> 0
C33: auxiliar | E33: 2 | J33: =I33*$E33 -> 0 | L33: =K33*$E33 -> 0 | N33: =M33*$E33 -> 0 | P33: =O33*$E33 -> 0
A34: i) | B34: trabalho voluntário
E35: 2 | J35: =I35*$E35 -> 0 | L35: =K35*$E35 -> 0 | N35: =M35*$E35 -> 0 | P35: =O35*$E35 -> 0
A36: j) | B36: coordenação de grupos de trabalho em congressos ou afins
E37: 3 | J37: =I37*$E37 -> 0 | L37: =K37*$E37 -> 0 | N37: =M37*$E37 -> 0 | P37: =O37*$E37 -> 0
A38: k) | B38: representação IF-SUL em reuniões, eventos, etc.
E39: 2 | J39: =I39*$E39 -> 0 | L39: =K39*$E39 -> 0 | N39: =M39*$E39 -> 0 | P39: =O39*$E39 -> 0
A40: l) | B40: orientação de projeto final de avaliação (até 3)
E41: 2 | J41: =IF(I41>3,3*$E41,I41*$E41) -> 0 | L41: =IF(K41>3,3*$E41,K41*$E41) -> 0 | N41: =IF(M41>3,3*$E41,M41*$E41) -> 0 | P41: =IF(O41>3,3*$E41,O41*$E41) -> 0
A42: m) | B42: orientação de estágios (até 3)
E43: 2 | J43: =IF(I43>3,3*$E43,I43*$E43) -> 0 | L43: =IF(K43>3,3*$E43,K43*$E43) -> 0 | N43: =IF(M43>3,3*$E43,M43*$E43) -> 0 | P43: =IF(O43>3,3*$E43,O43*$E43) -> 0
J44: =SUM(J5:J43) -> 0 | L44: =SUM(L5:L43) -> 0 | N44: =SUM(N5:N43) -> 0 | P44: =SUM(P5:P43) -> 0

Sheet V - Administração
A1: V - Administração | H1: até 50 pontos
I2: ='IV - Extensão e Prestação'!I2:J2 -> 1º sem | K2: ='IV - Extensão e Prestação'!K2:L2 -> 2º sem | M2: ='IV - Extensão e Prestação'!M2:N2 -> 3º sem | O2: ='IV - Extensão e Prestação'!O2:P2 -> 4º sem
I3: qtd. | J3: pontos | K3: qtd. | L3: pontos | M3: qtd. | N3: pontos | O3: qtd. | P3: pontos
A4: a) | B4: docentes em atividades administrativas (CD)
E5: 50 | J5: =IF(I5<>"",$E5,"") | L5: =IF(K5<>"",$E5,"") | N5: =IF(M5<>"",$E5,"") | P5: =IF(O5<>"",$E5,"")
A6: b) | B6: docentes afastados para prestar serviço nos Ministérios da Educação, Cultura, entidades de classe e em outras situações previstas na legislação vigente
E7: 50 | J7: =IF(I7<>"",$E7,"") | L7: =IF(K7<>"",$E7,"") | N7: =IF(M7<>"",$E7,"") | P7: =IF(O7<>"",$E7,"")
A8: c) | B8: FG 4 - gestores
E9: 30 | J9: =IF(I9<>"",$E9,"") | L9: =IF(K9<>"",$E9,"") | N9: =IF(M9<>"",$E9,"") | P9: =IF(O9<>"",$E9,"")
A10: d) | B10: Coordenação de área ou cursos
E11: 20 | J11: =IF(I11<>"",$E11,"") | L11: =IF(K11<>"",$E11,"") | N11: =IF(M11<>"",$E11,"") | P11: =IF(O11<>"",$E11,"")
A12: e) | B12: Secretaria de áreas
E13: 10 | J13: =IF(I13<>"",$E13,"") | L13: =IF(K13<>"",$E13,"") | N13: =IF(M13<>"",$E13,"") | P13: =IF(O13<>"",$E13,"")
J14: =SUM(J5:J13) -> 0 | L14: =SUM(L5:L13) -> 0 | N14: =SUM(N5:N13) -> 0 | P14: =SUM(P5:P13) -> 0

Sheet VII - Portarias
A1: VII - Portarias
G2: ='I - Desempenho Didático'!G3 -> 1º sem | I2: ='I - Desempenho Didático'!H3 -> 2º sem | K2: ='I - Desempenho Didático'!I3 -> 3º sem | M2: ='I - Desempenho Didático'!J3 -> 4º sem
A3: Pontuação quanto à duração do serviço prestado e/ou tipo de atividade desenvolvida | G3: qtd. | H3: pontos | I3: qtd. | J3: pontos | K3: qtd. | L3: pontos | M3: qtd. | N3: pontos
A4: a) | B4: 1 dia
C5: coordenador | E5: 3 | H5: =G5*$E5 -> 0 | J5: =I5*$E5 -> 0 | L5: =K5*$E5 -> 0 | N5: =M5*$E5 -> 0
C6: auxliar e outros | E6: 2 | H6: =G6*$E6 -> 0 | J6: =I6*$E6 -> 0 | L6: =K6*$E6 -> 0 | N6: =M6*$E6 -> 0
A7: b) | B7: 2 a 15 dias
C8: coordenador | E8: 5 | H8: =G8*$E8 -> 0 | J8: =I8*$E8 -> 0 | L8: =K8*$E8 -> 0 | N8: =M8*$E8 -> 0
C9: auxliar e outros | E9: 3 | H9: =G9*$E9 -> 0 | J9: =I9*$E9 -> 0 | L9: =K9*$E9 -> 0 | N9: =M9*$E9 -> 0
A10: c) | B10: 16 dias a 1 mês
C11: coordenador | E11: 6 | H11: =G11*$E11 -> 0 | J11: =I11*$E11 -> 0 | L11: =K11*$E11 -> 0 | N11: =M11*$E11 -> 0
C12: auxliar e outros | E12: 4 | H12: =G12*$E12 -> 0 | J12: =I12*$E12 -> 0 | L12: =K12*$E12 -> 0 | N12: =M12*$E12 -> 0
A13: d) | B13: 1 a 3 meses
C14: coordenador | E14: 10 | H14: =G14*$E14 -> 0 | J14: =I14*$E14 -> 0 | L14: =K14*$E14 -> 0 | N14: =M14*$E14 -> 0
C15: auxliar e outros | E15: 8 | H15: =G15*$E15 -> 0 | J15: =I15*$E15 -> 0 | L15: =K15*$E15 -> 0 | N15: =M15*$E15 -> 0
A16: e) | B16: 6 meses
C17: coordenador | E17: 12 | H17: =G17*$E17 -> 0 | J17: =I17*$E17 -> 0 | L17: =K17*$E17 -> 0 | N17: =M17*$E17 -> 0
C18: auxliar e outros | E18: 10 | H18: =G18*$E18 -> 0 | J18: =I18*$E18 -> 0 | L18: =K18*$E18 -> 0 | N18: =M18*$E18 -> 0
A19: f) | B19: permanente
C20: coordenador | E20: 15 | H20: =G20*$E20 -> 0 | J20: =I20*$E20 -> 0 | K20: 0 | L20: =K20*$E20 -> 0 | M20: 0 | N20: =M20*$E20 -> 0
C21: auxliar e outros | E21: 12 | G21: 0 | H21: =G21*$E21 -> 0 | I21: 0 | J21: =I21*$E21 -> 0 | K21: 0 | L21: =K21*$E21 -> 0 | N21: =M21*$E21 -> 0
A22: g) | B22: Láureas
C23: científicos, culturais, esportivas ou outras
E24: 2 | H24: =G24*$E24 -> 0 | J24: =I24*$E24 -> 0 | L24: =K24*$E24 -> 0 | N24: =M24*$E24 -> 0
H25: =SUM(H4:H24) -> 0 | J25: =SUM(J4:J24) -> 0 | L25: =SUM(L4:L24) -> 0 | N25: =SUM(N4:N24) -> 0

Sheet VI - Outras Atividades
A1: VI - Outras Atividades | H1: até 30 pontos
I2: ='V - Administração'!I2:J2 -> 1º sem | K2: ='V - Administração'!K2:L2 -> 2º sem | M2: ='V - Administração'!M2:N2 -> 3º sem | O2: ='V - Administração'!O2:P2 -> 4º sem
I3: qtd. | J3: pontos | K3: qtd. | L3: pontos | M3: qtd. | N3: pontos | O3: qtd. | P3: pontos
A4: a) | B4: representação em conselho e órgãos de classe
E5: 5 | J5: =I5*$E5 -> 0 | L5: =K5*$E5 -> 0 | N5: =M5*$E5 -> 0 | P5: =O5*$E5 -> 0
A6: b) | B6: participação como membro de diretoria ou de conselho em associação de classe, sindicatos, ordem e similares
E7: 10 | J7: =I7*$E7 -> 0 | L7: =K7*$E7 -> 0 | N7: =M7*$E7 -> 0 | P7: =O7*$E7 -> 0
A8: a) | B8: participação em seminários, encontros ou similares de interesse classista (como ouvinte)
E9: 3 | J9: =I9*$E9 -> 0 | L9: =K9*$E9 -> 0 | N9: =M9*$E9 -> 0 | P9: =O9*$E9 -> 0
A10: a) | B10: participação em seminários, encontros ou similares de interesse classista (como palestrante)
E11: 10 | J11: =I11*$E11 -> 0 | L11: =K11*$E11 -> 0 | N11: =M11*$E11 -> 0 | P11: =O11*$E11 -> 0
J12: =SUM(J4:J11) -> 0 | L12: =SUM(L4:L11) -> 0 | N12: =SUM(N4:N11) -> 0 | P12: =SUM(P4:P11) -> 0
